BEGIN:VCALENDAR
VERSION:2.0
PRODID:-//Drupal iCal API//EN
X-WR-CALNAME:Calendar of Events
X-WR-TIMEZONE:America/Chicago
BEGIN:VTIMEZONE
TZID:America/Chicago
X-LIC-LOCATION:America/Chicago
BEGIN:DAYLIGHT
TZNAME:CDT
TZOFFSETFROM:-0600
TZOFFSETTO:-0500
DTSTART:20260308T080000
END:DAYLIGHT
BEGIN:STANDARD
TZNAME:CST
TZOFFSETFROM:-0500
TZOFFSETTO:-0600
DTSTART:20251102T070000
END:STANDARD
END:VTIMEZONE
BEGIN:VEVENT
UID:e8079f2d-f353-4ab4-a4a6-b3792f1c5893
DTSTART;TZID=America/Chicago:20260423T180000
SEQUENCE:0
TRANSP:TRANSPARENT
DTEND;TZID=America/Chicago:20260423T190000
SUMMARY:Advanced Academic Night
CLASS:PUBLIC
DESCRIPTION:Body \n\nOn April 23 from 6:00-7:00\, we will have our Advanc
 ed Academics\nNight for the community. There will be a general presentatio
 n in the\nlibrary about the advanced options that we offer and general\n
 expectations for these classes. After this presentation\, parents and\nst
 udents will be able to go around and visit with teachers in the\nfoyer ar
 ea and learn more specifically about courses.  \n  \nOnRamps teachers\
 , AP teachers\, ECHS program project specialist\, and\ncounselors will at
 tend
DTSTAMP:20260423T155616Z
END:VEVENT
END:VCALENDAR