BEGIN:VCALENDAR
VERSION:2.0
PRODID:-//Drupal iCal API//EN
X-WR-CALNAME:Calendar of Events
X-WR-TIMEZONE:America/Chicago
BEGIN:VTIMEZONE
TZID:America/Chicago
X-LIC-LOCATION:America/Chicago
BEGIN:DAYLIGHT
TZNAME:CDT
TZOFFSETFROM:-0600
TZOFFSETTO:-0500
DTSTART:20260308T080000
END:DAYLIGHT
BEGIN:STANDARD
TZNAME:CST
TZOFFSETFROM:-0500
TZOFFSETTO:-0600
DTSTART:20251102T070000
END:STANDARD
END:VTIMEZONE
BEGIN:VEVENT
UID:bb91f8ad-5642-4221-a328-084e2e1e347d
DTSTART;TZID=America/Chicago:20260425T220000
SEQUENCE:0
TRANSP:TRANSPARENT
DTEND;TZID=America/Chicago:20260425T233000
SUMMARY:Campus Tours
CLASS:PUBLIC
DESCRIPTION:Body \n\nSEE BELOW FOR DETAILS AND DATES ABOUT AKINS CAMPUS TOU
 R DATES FOR NEW\nSTUDENTSLEARN ABOUT ALL ACADEMY PROGRAMS AND PATHWAY HERE
 :\n\n\"Six Academies - 2026-2027\"\n[https://akinsechs.austinschools.org/s
 even-academies]\n\nCounselors Page [https://akinsechs.austinschools.org/ab
 outus/guidance]
DTSTAMP:20260423T161256Z
END:VEVENT
END:VCALENDAR